BEGIN:VCALENDAR
VERSION:2.0
PRODID:-//Evelyn Fink-Mennel - ECPv4.7.4//NONSGML v1.0//EN
CALSCALE:GREGORIAN
METHOD:PUBLISH
X-WR-CALNAME:Evelyn Fink-Mennel
X-ORIGINAL-URL:https://evelynfinkmennel.at
X-WR-CALDESC:Veranstaltungen für Evelyn Fink-Mennel
BEGIN:VEVENT
DTSTART;TZID=UTC+0:20180506T170000
DTEND;TZID=UTC+0:20180506T190000
DTSTAMP:20260422T220116
CREATED:20171120T145352Z
LAST-MODIFIED:20171120T145352Z
UID:508-1525626000-1525633200@evelynfinkmennel.at
SUMMARY:Kirche St. Arbogast
DESCRIPTION:Studierende der Volksmusikklasse am Vorarlberger Landeskonservatorium \nim Konzert. Veranstalter „Musik in der Pforte“ \n
URL:https://evelynfinkmennel.at/event/kirche-st-arbogast/
LOCATION:St. Arbogast Pfarrkirche\, Götzis\, Vorarlberg\, Österreich
CATEGORIES:Konzert
END:VEVENT
END:VCALENDAR