BEGIN:VCALENDAR
VERSION:2.0
PRODID:-//Evelyn Fink-Mennel - ECPv4.7.4//NONSGML v1.0//EN
CALSCALE:GREGORIAN
METHOD:PUBLISH
X-WR-CALNAME:Evelyn Fink-Mennel
X-ORIGINAL-URL:https://evelynfinkmennel.at
X-WR-CALDESC:Veranstaltungen für Evelyn Fink-Mennel
BEGIN:VEVENT
DTSTART;TZID=UTC+0:20200702T183000
DTEND;TZID=UTC+0:20200702T193000
DTSTAMP:20260419T212414
CREATED:20200611T105322Z
LAST-MODIFIED:20200611T105322Z
UID:1418-1593714600-1593718200@evelynfinkmennel.at
SUMMARY:Jugendsinfonietta der MS Lustenau und Fiddlekids in Concert
DESCRIPTION:Zum Abschluss des „Home-office“ Musikschulsemesters gibt es uns noch einem Live! \nDie Jugendsinfonietta der MS Lustenau bringt symphonische Klänge (Harry Potter mit Bläser und Schlagwerk) sowie \neinen selbstgeschriebenen Song „Guate Freunde“ mit Band\, Sängerinnen und Orchestersatz zum Besten. \nDie Fiddlekids (eine 9 Frau/Mann Kapelle\, die sich seit jeher ear-by-ear der Musik nähert und sie direkt durch Abhören von einem Menschen lernt\, und nicht von Noten) spielen fröhlich tanzend in die Ferien mit einigen Lieblingstunes. \n
URL:https://evelynfinkmennel.at/event/jugendsinfonietta-der-ms-lustenau-und-fiddlekids-in-concert/
LOCATION:Freudenhaus Lustenau\, Millennium Park Lustenau\, Lustenau\, Vorarlberg\, 6890\, Österreich
CATEGORIES:Konzert
ATTACH;FMTTYPE=image/jpeg:https://evelynfinkmennel.at/wp-content/uploads/Fiddlekids-2019-mit-Aufnahmeteam_Foto-Birgit-Marent.jpg
ORGANIZER;CN="Musikschule%20Lustenau":MAILTO:musikschule@lustenau.at
END:VEVENT
END:VCALENDAR