BEGIN:VCALENDAR
VERSION:2.0
PRODID:-//Evelyn Fink-Mennel - ECPv4.7.4//NONSGML v1.0//EN
CALSCALE:GREGORIAN
METHOD:PUBLISH
X-WR-CALNAME:Evelyn Fink-Mennel
X-ORIGINAL-URL:https://evelynfinkmennel.at
X-WR-CALDESC:Veranstaltungen für Evelyn Fink-Mennel
BEGIN:VEVENT
DTSTART;TZID=UTC+0:20201016T180000
DTEND;TZID=UTC+0:20201018T180000
DTSTAMP:20260419T170546
CREATED:20181230T185124Z
LAST-MODIFIED:20181230T185124Z
UID:943-1602871200-1603044000@evelynfinkmennel.at
SUMMARY:Jodeln mit Gänsehaut
DESCRIPTION:http://www.stimmimpuls.com \nJodelworkshop für Fortgeschrittene mit Evelyn Fink-Mennel im Bildungshaus St. Ulrich/Bolschweil (Freiburg/D) \n  \n
URL:https://evelynfinkmennel.at/event/jodeln-mit-gaensehaut-2/
LOCATION:St. Gerold
CATEGORIES:Kurs
END:VEVENT
END:VCALENDAR