BEGIN:VCALENDAR
VERSION:2.0
PRODID:-//Evelyn Fink-Mennel - ECPv4.7.4//NONSGML v1.0//EN
CALSCALE:GREGORIAN
METHOD:PUBLISH
X-WR-CALNAME:Evelyn Fink-Mennel
X-ORIGINAL-URL:https://evelynfinkmennel.at
X-WR-CALDESC:Veranstaltungen für Evelyn Fink-Mennel
BEGIN:VEVENT
DTSTART;TZID=UTC+0:20190207T080000
DTEND;TZID=UTC+0:20190207T080000
DTSTAMP:20260422T135022
CREATED:20190202T203910Z
LAST-MODIFIED:20190202T203910Z
UID:969-1549526400-1549526400@evelynfinkmennel.at
SUMMARY:Jodeln in der Schule
DESCRIPTION:Jodeln in der Volksschule Feldkirch-Levis. Zjuuuhuhuiii! \n
URL:https://evelynfinkmennel.at/event/jodeln-in-der-schule/
LOCATION:Feldkirch Levis
END:VEVENT
END:VCALENDAR