BEGIN:VCALENDAR
VERSION:2.0
PRODID:-//Evelyn Fink-Mennel - ECPv4.7.4//NONSGML v1.0//EN
CALSCALE:GREGORIAN
METHOD:PUBLISH
X-WR-CALNAME:Evelyn Fink-Mennel
X-ORIGINAL-URL:https://evelynfinkmennel.at
X-WR-CALDESC:Veranstaltungen für Evelyn Fink-Mennel
BEGIN:VEVENT
DTSTART;TZID=UTC+0:20190914T090000
DTEND;TZID=UTC+0:20190914T190000
DTSTAMP:20260420T065918
CREATED:20190721T180442Z
LAST-MODIFIED:20190721T180442Z
UID:1160-1568451600-1568487600@evelynfinkmennel.at
SUMMARY:Jo du? I ou! VHS Jodelkurs
DESCRIPTION:Jodelkurs der VHS-Bregenz mit Evelyn Fink-Mennel und Matthias Härtel. \nAnmeldung: VHS-Bregenz \n
URL:https://evelynfinkmennel.at/event/jo-du-i-ou-vhs-jodelkurs/
LOCATION:Sonderdach Bezau\, Bezau\, Vorarlberg\, 6870\, Österreich
CATEGORIES:Kurs
END:VEVENT
END:VCALENDAR