BEGIN:VCALENDAR
VERSION:2.0
PRODID:-//Evelyn Fink-Mennel - ECPv4.7.4//NONSGML v1.0//EN
CALSCALE:GREGORIAN
METHOD:PUBLISH
X-WR-CALNAME:Evelyn Fink-Mennel
X-ORIGINAL-URL:https://evelynfinkmennel.at
X-WR-CALDESC:Veranstaltungen für Evelyn Fink-Mennel
BEGIN:VEVENT
DTSTART;TZID=UTC+0:20191113T080000
DTEND;TZID=UTC+0:20191114T170000
DTSTAMP:20260420T024543
CREATED:20190721T174820Z
LAST-MODIFIED:20190721T174820Z
UID:1145-1573632000-1573750800@evelynfinkmennel.at
SUMMARY:Impro-Workshop
DESCRIPTION:Workshops im Rahmen der Projektwoche der Hochschule Luzern\, Abteilung Jazz und Volksmusik 11.-15. November 2019 \n
URL:https://evelynfinkmennel.at/event/impro-workshop/
LOCATION:HSLU Luzern\, Luzern\, Schweiz
CATEGORIES:Kurs
END:VEVENT
END:VCALENDAR