BEGIN:VCALENDAR
VERSION:2.0
PRODID:-//Evelyn Fink-Mennel - ECPv4.7.4//NONSGML v1.0//EN
CALSCALE:GREGORIAN
METHOD:PUBLISH
X-WR-CALNAME:Evelyn Fink-Mennel
X-ORIGINAL-URL:https://evelynfinkmennel.at
X-WR-CALDESC:Veranstaltungen für Evelyn Fink-Mennel
BEGIN:VEVENT
DTSTART;TZID=UTC+0:20180503T180000
DTEND;TZID=UTC+0:20180503T200000
DTSTAMP:20260422T220250
CREATED:20171120T132508Z
LAST-MODIFIED:20171120T132719Z
UID:477-1525370400-1525377600@evelynfinkmennel.at
SUMMARY:“Hast du Worte?" Abschlussveranstaltung
DESCRIPTION:Abschlussveranstaltung der Seminarreihe „Hast du Worte?“ (Sprach- und Leseförderung für Kinder zwischen 0 und 4 Jahren) \nMusikalische Moderation: Evelyn Fink-Mennel \n  \n
URL:https://evelynfinkmennel.at/event/hast-du-worte-abschlussveranstaltung/
LOCATION:Rathaus Dornbirn\, Rathausplatz 2\, Dornbirn\, Vorarlberg\, 6850\, Österreich
CATEGORIES:Konzert,Vortrag
END:VEVENT
END:VCALENDAR