BEGIN:VCALENDAR
VERSION:2.0
PRODID:-//Evelyn Fink-Mennel - ECPv4.7.4//NONSGML v1.0//EN
CALSCALE:GREGORIAN
METHOD:PUBLISH
X-WR-CALNAME:Evelyn Fink-Mennel
X-ORIGINAL-URL:https://evelynfinkmennel.at
X-WR-CALDESC:Veranstaltungen für Evelyn Fink-Mennel
BEGIN:VEVENT
DTSTART;TZID=UTC+0:20180727T200000
DTEND;TZID=UTC+0:20180727T213000
DTSTAMP:20260422T185847
CREATED:20180602T165928Z
LAST-MODIFIED:20180602T170219Z
UID:700-1532721600-1532727000@evelynfinkmennel.at
SUMMARY:Glatt&verkehrt Duell Fink Paulus
DESCRIPTION:Festivalkurator Albert Hosp hat dieses Jahr verschiedene Duos eingeladen\, Musik vor und zwischen den Konzerten in der Sandgrube zu spielen: unplugged und im Freien. \nDie Konzertintermezzi des 27.7. bestreiten Vokal- und Violinistin Evelyn Fink und Maultrommelvirtuose\, Jodler und Dudelsackspieler Albin Paulus\, zwei musikalische Freunde und Geschwister namens Duell Fink-Paulus. \n \nFoto: Anja Lampert \n
URL:https://evelynfinkmennel.at/event/glattverkehrt-duell-fink-paulus/
LOCATION:Sandgrube Krems\, Krems\, Niederösterreich\, Österreich
CATEGORIES:Konzert
END:VEVENT
END:VCALENDAR