BEGIN:VCALENDAR
VERSION:2.0
PRODID:-//Evelyn Fink-Mennel - ECPv4.7.4//NONSGML v1.0//EN
CALSCALE:GREGORIAN
METHOD:PUBLISH
X-WR-CALNAME:Evelyn Fink-Mennel
X-ORIGINAL-URL:https://evelynfinkmennel.at
X-WR-CALDESC:Veranstaltungen für Evelyn Fink-Mennel
BEGIN:VEVENT
DTSTART;TZID=UTC+0:20180720T190000
DTEND;TZID=UTC+0:20180720T230000
DTSTAMP:20260422T185724
CREATED:20180602T142752Z
LAST-MODIFIED:20180602T142833Z
UID:655-1532113200-1532127600@evelynfinkmennel.at
SUMMARY:Glatt & verkehrt Werkstatt-Reprisen
DESCRIPTION:„Klangspaziergang“ durch das weitläufige und inspirierende Areal des Stiftes Göttweig \nals Abschlusskonzert der 90 Teilnehmenden der Musikwerkstatt 2018 (Ltg. Evelyn Fink-Mennel)\, mit Catering und \nanschließenden Sessions \n
URL:https://evelynfinkmennel.at/event/glatt-verkehrt-werkstatt-reprisen/
LOCATION:Stift Göttweig\, Stift Göttweig\, Niederösterreich\, 3511\, Österreich
CATEGORIES:Konzert
ATTACH;FMTTYPE=image/png:https://evelynfinkmennel.at/wp-content/uploads/werkstattreprisen.png
END:VEVENT
END:VCALENDAR