BEGIN:VCALENDAR
VERSION:2.0
PRODID:-//Evelyn Fink-Mennel - ECPv4.7.4//NONSGML v1.0//EN
CALSCALE:GREGORIAN
METHOD:PUBLISH
X-WR-CALNAME:Evelyn Fink-Mennel
X-ORIGINAL-URL:https://evelynfinkmennel.at
X-WR-CALDESC:Veranstaltungen für Evelyn Fink-Mennel
BEGIN:VEVENT
DTSTART;VALUE=DATE:20200711
DTEND;VALUE=DATE:20200719
DTSTAMP:20260419T210331
CREATED:20190721T172456Z
LAST-MODIFIED:20200611T102809Z
UID:1136-1594425600-1595116799@evelynfinkmennel.at
SUMMARY:abgesagt! Glatt & verkehrt Musikwerkstatt
DESCRIPTION:
URL:https://evelynfinkmennel.at/event/glatt-verkehrt-musikwerkstatt/
LOCATION:Stift Göttweig\, Stift Göttweig\, Niederösterreich\, 3511\, Österreich
CATEGORIES:Kurs
END:VEVENT
END:VCALENDAR