BEGIN:VCALENDAR
VERSION:2.0
PRODID:-//Evelyn Fink-Mennel - ECPv4.7.4//NONSGML v1.0//EN
CALSCALE:GREGORIAN
METHOD:PUBLISH
X-WR-CALNAME:Evelyn Fink-Mennel
X-ORIGINAL-URL:https://evelynfinkmennel.at
X-WR-CALDESC:Veranstaltungen für Evelyn Fink-Mennel
BEGIN:VEVENT
DTSTART;TZID=UTC+0:20200703T150000
DTEND;TZID=UTC+0:20200703T190000
DTSTAMP:20260419T232009
CREATED:20200611T112854Z
LAST-MODIFIED:20200611T114644Z
UID:1430-1593788400-1593802800@evelynfinkmennel.at
SUMMARY:Gefinkelter Oxo. Ton(e)spuren Ausstellungseröffnung
DESCRIPTION:Alle aktualisierten Details zur – nun doch stattfindenden – Veranstaltung im Rahmen von 750-Jahre Schwarzenberg auf www.schwarzenberg750.at \nTone Fink Ausstellung von 4. Juli-30. August 2020 im Gasthof Ochsen. \nAusstellungseröffnung am 3. Juli als „Open house“ von 15-19 Uhr. \nfinkslinggs eröffnen um ca 15.30 Uhr musikalisch – mit gebotenem Abstand – mit dem „Schwarzenberg-Song“ \n
URL:https://evelynfinkmennel.at/event/gefinkelter-oxo-tonespuren-ausstellungseroeffnung/
ATTACH;FMTTYPE=image/jpeg:https://evelynfinkmennel.at/wp-content/uploads/750-Jahre.jpg
END:VEVENT
END:VCALENDAR