BEGIN:VCALENDAR
VERSION:2.0
PRODID:-//Evelyn Fink-Mennel - ECPv4.7.4//NONSGML v1.0//EN
CALSCALE:GREGORIAN
METHOD:PUBLISH
X-WR-CALNAME:Evelyn Fink-Mennel
X-ORIGINAL-URL:https://evelynfinkmennel.at
X-WR-CALDESC:Veranstaltungen für Evelyn Fink-Mennel
BEGIN:VEVENT
DTSTART;TZID=UTC+0:20181006T210000
DTEND;TZID=UTC+0:20181006T223000
DTSTAMP:20260422T172457
CREATED:20180602T132842Z
LAST-MODIFIED:20180710T191150Z
UID:624-1538859600-1538865000@evelynfinkmennel.at
SUMMARY:Franz Michael Felder Museum Schoppernau
DESCRIPTION: \n
URL:https://evelynfinkmennel.at/event/franz-michael-felder-museum-schoppernau/
LOCATION:Franz Michael Felder Museum\, Schoppernau\, Vorarlberg\, Österreich
CATEGORIES:Konzert
ATTACH;FMTTYPE=image/jpeg:https://evelynfinkmennel.at/wp-content/uploads/PIC_0374.jpg
END:VEVENT
END:VCALENDAR