BEGIN:VCALENDAR
VERSION:2.0
PRODID:-//Evelyn Fink-Mennel - ECPv4.7.4//NONSGML v1.0//EN
CALSCALE:GREGORIAN
METHOD:PUBLISH
X-WR-CALNAME:Evelyn Fink-Mennel
X-ORIGINAL-URL:https://evelynfinkmennel.at
X-WR-CALDESC:Veranstaltungen für Evelyn Fink-Mennel
BEGIN:VEVENT
DTSTART;TZID=UTC+0:20180426T200000
DTEND;TZID=UTC+0:20180426T220000
DTSTAMP:20260422T202246
CREATED:20171120T130508Z
LAST-MODIFIED:20171120T130508Z
UID:472-1524772800-1524780000@evelynfinkmennel.at
SUMMARY:folkBALTICA
DESCRIPTION:Konzert des Bregenzerwälder Streicherkollektivs „Messis Cellogruppe“ im Rahmen \ndes 14. folkBALTICA Festivals (21.-29. April 2018) im Deutsch/Dänischen Grenzgebiet. \n  \n
URL:https://evelynfinkmennel.at/event/folkbaltica/
LOCATION:Kappeln\, Deutschland
CATEGORIES:Konzert
END:VEVENT
END:VCALENDAR