BEGIN:VCALENDAR
VERSION:2.0
PRODID:-//Evelyn Fink-Mennel - ECPv4.7.4//NONSGML v1.0//EN
CALSCALE:GREGORIAN
METHOD:PUBLISH
X-WR-CALNAME:Evelyn Fink-Mennel
X-ORIGINAL-URL:https://evelynfinkmennel.at
X-WR-CALDESC:Veranstaltungen für Evelyn Fink-Mennel
BEGIN:VEVENT
DTSTART;TZID=UTC+0:20180425T190000
DTEND;TZID=UTC+0:20180425T220000
DTSTAMP:20260422T220250
CREATED:20171120T130132Z
LAST-MODIFIED:20171120T130132Z
UID:469-1524682800-1524693600@evelynfinkmennel.at
SUMMARY:folkBALTICA Eröffnungskonzert
DESCRIPTION:Eröffnungskonzert: 14. folkBALTICA 21.-29. April 2018 \nDas Bregenzerwälder Geigenkollektiv „Messis Cellogruppe“ und Studierende des \nVorarlberger Landeskonservatoriums musizieren im folkBALTICA-Ensemble \n  \n
URL:https://evelynfinkmennel.at/event/folkbaltica-eroeffnungskonzert/
LOCATION:Alsion\, Dänemark
CATEGORIES:Konzert
END:VEVENT
END:VCALENDAR