BEGIN:VCALENDAR
VERSION:2.0
PRODID:-//Evelyn Fink-Mennel - ECPv4.7.4//NONSGML v1.0//EN
CALSCALE:GREGORIAN
METHOD:PUBLISH
X-WR-CALNAME:Evelyn Fink-Mennel
X-ORIGINAL-URL:https://evelynfinkmennel.at
X-WR-CALDESC:Veranstaltungen für Evelyn Fink-Mennel
BEGIN:VEVENT
DTSTART;TZID=UTC+0:20171004T200000
DTEND;TZID=UTC+0:20171004T200000
DTSTAMP:20260423T011508
CREATED:20170912T085528Z
LAST-MODIFIED:20171120T154149Z
UID:100-1507147200-1507147200@evelynfinkmennel.at
SUMMARY:finkslinggs Wirtshaustour
DESCRIPTION:Karten: office@loewen-au.at | € 16 \n
URL:https://evelynfinkmennel.at/event/finkslinggs-wirtshaustour/
LOCATION:Gasthaus Löwen Au
CATEGORIES:Konzert
END:VEVENT
END:VCALENDAR