BEGIN:VCALENDAR
VERSION:2.0
PRODID:-//Evelyn Fink-Mennel - ECPv4.7.4//NONSGML v1.0//EN
CALSCALE:GREGORIAN
METHOD:PUBLISH
X-WR-CALNAME:Evelyn Fink-Mennel
X-ORIGINAL-URL:https://evelynfinkmennel.at
X-WR-CALDESC:Veranstaltungen für Evelyn Fink-Mennel
BEGIN:VEVENT
DTSTART;TZID=UTC+0:20171229T190000
DTEND;TZID=UTC+0:20171229T190000
DTSTAMP:20260422T215712
CREATED:20171031T141506Z
LAST-MODIFIED:20171120T105952Z
UID:437-1514574000-1514574000@evelynfinkmennel.at
SUMMARY:finkslinggs-Wirtshaustour
DESCRIPTION:„…nur für Freunde der Urtriebforschung“ \nBrandneu und brandheiß! finkslinggs mit pressfrischer CD „…nur für Freunde der Urtriebforschung“ auf Wirtshaustour.\nAufgeigen\, jodeln\, singen – und mitsingen: lustvoll in erotischen Vier- und Mehrzeilern.\nUngeniert direkt wie feinsinnig verklausuliert frei nach dem Motto: „Da wird ein wenig von der Liebe die Rede sein\, aber nicht bloß von ihrer Blume\, sondern auch vom Stengel.“ \nKonzert mit Tanzparty\nKarten: www.kunsthaus-bregenz.at\n€ 9 (€ 7 erm.) \nVeranstaltungsflyer \n
URL:https://evelynfinkmennel.at/event/finkslinggs-wirtshaustour-6/
LOCATION:Kunsthaus Bregenz\, Bregenz\, 6900
CATEGORIES:Konzert
END:VEVENT
END:VCALENDAR