BEGIN:VCALENDAR
VERSION:2.0
PRODID:-//Evelyn Fink-Mennel - ECPv4.7.4//NONSGML v1.0//EN
CALSCALE:GREGORIAN
METHOD:PUBLISH
X-WR-CALNAME:Evelyn Fink-Mennel
X-ORIGINAL-URL:https://evelynfinkmennel.at
X-WR-CALDESC:Veranstaltungen für Evelyn Fink-Mennel
BEGIN:VEVENT
DTSTART;TZID=UTC+0:20181103T193000
DTEND;TZID=UTC+0:20181103T220000
DTSTAMP:20260422T154527
CREATED:20180910T125716Z
LAST-MODIFIED:20180910T125716Z
UID:784-1541273400-1541282400@evelynfinkmennel.at
SUMMARY:finkslinggs feat. irma
DESCRIPTION: \n
URL:https://evelynfinkmennel.at/event/finkslinggs-feat-irma/
LOCATION:Alte Seifenfabrick\, Bahnhofstraße 3\, Lauterach\, Vorarlberg\, 6923\, Österreich
CATEGORIES:Konzert
END:VEVENT
END:VCALENDAR