BEGIN:VCALENDAR
VERSION:2.0
PRODID:-//Evelyn Fink-Mennel - ECPv4.7.4//NONSGML v1.0//EN
CALSCALE:GREGORIAN
METHOD:PUBLISH
X-WR-CALNAME:Evelyn Fink-Mennel
X-ORIGINAL-URL:https://evelynfinkmennel.at
X-WR-CALDESC:Veranstaltungen für Evelyn Fink-Mennel
BEGIN:VEVENT
DTSTART;TZID=UTC+0:20180527T150000
DTEND;TZID=UTC+0:20180602T170000
DTSTAMP:20260422T202442
CREATED:20180602T130122Z
LAST-MODIFIED:20180602T130123Z
UID:619-1527433200-1527958800@evelynfinkmennel.at
SUMMARY:finkslinggs Erotisches Literaturpicknick
DESCRIPTION:Programmüberblick+HARDcover+2018 \n
URL:https://evelynfinkmennel.at/event/finkslinggs-erotisches-literaturpicknick/
LOCATION:Hard Stedepark\, Hard\, Vorarlberg
ATTACH;FMTTYPE=image/jpeg:https://evelynfinkmennel.at/wp-content/uploads/2017/09/EV17-271_k.jpg
END:VEVENT
END:VCALENDAR