BEGIN:VCALENDAR
VERSION:2.0
PRODID:-//Evelyn Fink-Mennel - ECPv4.7.4//NONSGML v1.0//EN
CALSCALE:GREGORIAN
METHOD:PUBLISH
X-WR-CALNAME:Evelyn Fink-Mennel
X-ORIGINAL-URL:https://evelynfinkmennel.at
X-WR-CALDESC:Veranstaltungen für Evelyn Fink-Mennel
BEGIN:VEVENT
DTSTART;TZID=UTC+0:20200424T213000
DTEND;TZID=UTC+0:20200424T230000
DTSTAMP:20260420T005217
CREATED:20200117T205808Z
LAST-MODIFIED:20200401T092922Z
UID:1270-1587763800-1587769200@evelynfinkmennel.at
SUMMARY:verschoben auf April 2021! finkslinggs bei den Stanser Musiktagen
DESCRIPTION:Der neue Termin im April 2021 des coronabegingt um ein Jahr verschobenen Festivals wird zeitgerecht bekanntgegeben! \nDas Festival mit Neuentdeckungen aus den Bereichen World\, Jazz\, Volksmusik und anspruchsvoller Popmusik garantieren musikalische Festival-Erlebnisse auf höchstem Niveau. \nfinkslinggs lassen sich sehr gerne in der Schweiz entdecken! \n
URL:https://evelynfinkmennel.at/event/finkslinggs-bei-den-stanser-musiktagen/
LOCATION:Stans\, Stans\, Nidwalden\, 6371\, Schweiz
CATEGORIES:Konzert
ATTACH;FMTTYPE=image/jpeg:https://evelynfinkmennel.at/wp-content/uploads/2017/09/EV17-271_k.jpg
END:VEVENT
END:VCALENDAR