BEGIN:VCALENDAR
VERSION:2.0
PRODID:-//Evelyn Fink-Mennel - ECPv4.7.4//NONSGML v1.0//EN
CALSCALE:GREGORIAN
METHOD:PUBLISH
X-WR-CALNAME:Evelyn Fink-Mennel
X-ORIGINAL-URL:https://evelynfinkmennel.at
X-WR-CALDESC:Veranstaltungen für Evelyn Fink-Mennel
BEGIN:VEVENT
DTSTART;TZID=UTC+0:20200701T190000
DTEND;TZID=UTC+0:20200701T203000
DTSTAMP:20260419T225921
CREATED:20200117T200119Z
LAST-MODIFIED:20200630T091307Z
UID:1258-1593630000-1593635400@evelynfinkmennel.at
SUMMARY:abgesagt!! finkslinggs am See
DESCRIPTION:… vielleicht gehts dann ja im August\, mit finkslinggs am See! See you! \nDie besten Songs und Drinks zum Sonnenuntergang am See …\n… zum Genießen und Mitsingen mit Evelyn Fink-Mennel und Philipp Lingg \n
URL:https://evelynfinkmennel.at/event/finkslinggs-am-see-8/
LOCATION:Blumenmolo\, Seepromenade/Hafen\, Bregenz\, Vorarlberg\, 6900\, Österreich
CATEGORIES:Session
ATTACH;FMTTYPE=image/jpeg:https://evelynfinkmennel.at/wp-content/uploads/finkslinggs-am-see-2019.jpg
END:VEVENT
END:VCALENDAR