BEGIN:VCALENDAR
VERSION:2.0
PRODID:-//Evelyn Fink-Mennel - ECPv4.7.4//NONSGML v1.0//EN
CALSCALE:GREGORIAN
METHOD:PUBLISH
X-WR-CALNAME:Evelyn Fink-Mennel
X-ORIGINAL-URL:https://evelynfinkmennel.at
X-WR-CALDESC:Veranstaltungen für Evelyn Fink-Mennel
BEGIN:VEVENT
DTSTART;TZID=UTC+0:20200819T190000
DTEND;TZID=UTC+0:20200819T203000
DTSTAMP:20260419T210444
CREATED:20200117T195527Z
LAST-MODIFIED:20200818T140226Z
UID:1254-1597863600-1597869000@evelynfinkmennel.at
SUMMARY:leider abgesagt finkslinggs am See
DESCRIPTION:Die besten Songs und Drinks zum Sonnenuntergang am See …\n… zum Genießen und Mitsingen mit Evelyn Fink-Mennel und Philipp Lingg \n
URL:https://evelynfinkmennel.at/event/finkslinggs-am-see-6/
LOCATION:Blumenmolo\, Seepromenade/Hafen\, Bregenz\, Vorarlberg\, 6900\, Österreich
CATEGORIES:Session
ATTACH;FMTTYPE=image/jpeg:https://evelynfinkmennel.at/wp-content/uploads/finkslinggs-am-see-2019.jpg
END:VEVENT
END:VCALENDAR