BEGIN:VCALENDAR
VERSION:2.0
PRODID:-//Evelyn Fink-Mennel - ECPv4.7.4//NONSGML v1.0//EN
CALSCALE:GREGORIAN
METHOD:PUBLISH
X-WR-CALNAME:Evelyn Fink-Mennel
X-ORIGINAL-URL:https://evelynfinkmennel.at
X-WR-CALDESC:Veranstaltungen für Evelyn Fink-Mennel
BEGIN:VEVENT
DTSTART;TZID=UTC+0:20190918T193000
DTEND;TZID=UTC+0:20190918T213000
DTSTAMP:20260420T064631
CREATED:20190721T163051Z
LAST-MODIFIED:20190721T163051Z
UID:1112-1568835000-1568842200@evelynfinkmennel.at
SUMMARY:finkslinggs am See
DESCRIPTION:Musik zum Sonnenuntergang am See mit Gitarre\, Geige\, 2 Stimmen und den besten Songs …\n… mit Evelyn Fink-Mennel und Philipp Lingg an der Bregenzer Seepromenade. Jeden Mittwoch im September. \n
URL:https://evelynfinkmennel.at/event/finkslinggs-am-see-3/
LOCATION:Blumenmolo
CATEGORIES:Konzert,Session
END:VEVENT
END:VCALENDAR