BEGIN:VCALENDAR
VERSION:2.0
PRODID:-//Evelyn Fink-Mennel - ECPv4.7.4//NONSGML v1.0//EN
CALSCALE:GREGORIAN
METHOD:PUBLISH
X-WR-CALNAME:Evelyn Fink-Mennel
X-ORIGINAL-URL:https://evelynfinkmennel.at
X-WR-CALDESC:Veranstaltungen für Evelyn Fink-Mennel
BEGIN:VEVENT
DTSTART;TZID=UTC+0:20171112T103000
DTEND;TZID=UTC+0:20171112T103000
DTSTAMP:20260422T233606
CREATED:20171031T135517Z
LAST-MODIFIED:20171120T154041Z
UID:414-1510482600-1510482600@evelynfinkmennel.at
SUMMARY:Festkonzert für Gerold Amann
DESCRIPTION:„Festkonzert für Gerold Amann“ im \nRahmen des Festivals für zeitgenössische Musik und Literatur „Text & Töne“. \nu.a. Evelyn Fink (Stimme) und Ulrich Gabriel (Stimme): „Gibbongesänge“\, \nEvelyn Fink (Gesang) und Anna Adamik (Klavier): „Alemannische Urviecher“) \n
URL:https://evelynfinkmennel.at/event/festkonzert-fuer-gerold-amann/
LOCATION:ORF-V\, Landesstudio Dornbirn\, Dornbirn\, 6850\, Österreich
CATEGORIES:Konzert
END:VEVENT
END:VCALENDAR