BEGIN:VCALENDAR
VERSION:2.0
PRODID:-//Evelyn Fink-Mennel - ECPv4.7.4//NONSGML v1.0//EN
CALSCALE:GREGORIAN
METHOD:PUBLISH
X-WR-CALNAME:Evelyn Fink-Mennel
X-ORIGINAL-URL:https://evelynfinkmennel.at
X-WR-CALDESC:Veranstaltungen für Evelyn Fink-Mennel
BEGIN:VEVENT
DTSTART;TZID=UTC+0:20180126T193000
DTEND;TZID=UTC+0:20180126T213000
DTSTAMP:20260422T220233
CREATED:20171120T153434Z
LAST-MODIFIED:20171120T153434Z
UID:534-1516995000-1517002200@evelynfinkmennel.at
SUMMARY:Faschingskonzert der MS Lustenau
DESCRIPTION:Faschingskonzert u.a. mit der Sinfonietta Lustenau (Ltg. Doris Glatter-Götz)\, der Jugendsinfonietta Lustenau (Ltg. Evelyn Fink-Mennel) und anderen Ensembles \n
URL:https://evelynfinkmennel.at/event/faschingskonzert-der-ms-lustenau/
LOCATION:Reichshofsaal Lustenau\, Kirchplatz 1\, Lustenau\, Vorarlberg\, 6890\, Österreich
CATEGORIES:Konzert
ORGANIZER;CN="Musikschule%20Lustenau":MAILTO:musikschule@lustenau.at
END:VEVENT
END:VCALENDAR