BEGIN:VCALENDAR
VERSION:2.0
PRODID:-//Evelyn Fink-Mennel - ECPv4.7.4//NONSGML v1.0//EN
CALSCALE:GREGORIAN
METHOD:PUBLISH
X-WR-CALNAME:Evelyn Fink-Mennel
X-ORIGINAL-URL:https://evelynfinkmennel.at
X-WR-CALDESC:Veranstaltungen für Evelyn Fink-Mennel
BEGIN:VEVENT
DTSTART;TZID=UTC+0:20200124T190000
DTEND;TZID=UTC+0:20200124T203000
DTSTAMP:20260420T025056
CREATED:20191122T085919Z
LAST-MODIFIED:20191122T085919Z
UID:1224-1579892400-1579897800@evelynfinkmennel.at
SUMMARY:Faschingskonzert der MS Lustenau
DESCRIPTION:Die „Jugendsinfonietta der Musikschule“ und die „Fiddlekids“ (siehe Foto\, Sept 2019 im ORF-V Studio anlässlich von Aufnahmen)\, beides Ensembles unter der Leitung von Evelyn Fink-Mennel\, spielen auf im Rahmen des musikalischen Faschingskonzertes der Musikschule Lustenau. \n
URL:https://evelynfinkmennel.at/event/faschingskonzert-der-ms-lustenau-2/
CATEGORIES:Konzert
ATTACH;FMTTYPE=image/jpeg:https://evelynfinkmennel.at/wp-content/uploads/Fiddlekids-ORF-September-2019.jpg
END:VEVENT
END:VCALENDAR