BEGIN:VCALENDAR
VERSION:2.0
PRODID:-//Evelyn Fink-Mennel - ECPv4.7.4//NONSGML v1.0//EN
CALSCALE:GREGORIAN
METHOD:PUBLISH
X-WR-CALNAME:Evelyn Fink-Mennel
X-ORIGINAL-URL:https://evelynfinkmennel.at
X-WR-CALDESC:Veranstaltungen für Evelyn Fink-Mennel
BEGIN:VEVENT
DTSTART;TZID=UTC+0:20201111T180000
DTEND;TZID=UTC+0:20201111T190000
DTSTAMP:20260419T153258
CREATED:20201020T190804Z
LAST-MODIFIED:20201110T142734Z
UID:1569-1605117600-1605121200@evelynfinkmennel.at
SUMMARY:abgesagt! Eröffnung und Talkshow Montforter Zwischentöne Herbst 2020
DESCRIPTION:30 Minuten Kostproben\, Interviews und der Blick hinter die Kulissen der aktuellen Zwischentöne-Ausgabe\, \nbei freiem Eintritt und mit Gruß aus der Küche! \nIch freue mich\, auch dabeisein zu dürfen! \n  \nDieser Zwischentöne-Schwerpunkt „Radio Zwischentöne. Perspektiven und Rückblick auf ein regionales Kulturradio“ ist die Würdigung einer Kraft\, die einen wichtigen Beitrag für die Identität und das Gemeinwohl einer Region leistet\, ist die Wertschätzung und Bestärkung des öffentlich-rechtlichen Kulturradios\, das gerade in Vorarlberg Essentielles für die heute so vielfältige Kulturszene geleistet hat. \nDenn Radio ist nicht nur Kulturberichterstatter\, sondern auch Kulturproduzent. In den 1980er-Jahren war das Funkhaus in Dornbirn eine der innovativsten Produktionsstätten der Hörspielkunst im deutschsprachigen Raum. Das regionale Kulturradio war der zentrale Auftraggeber und oft das erste Medium für die heute verblüffend umfangreiche Musik- und Literaturszene des Landes. Die Historiker der Malin-Gesellschaft eröffneten dort die öffentliche Debatte über Vorarlberg während der NS-Zeit\, die Vorarlberger Baukünstler sprachen über handwerksorientierte energieeffiziente Architektur mit regionalen Baustoffen. Unzählige Mitschnitte der Festspiele\, von Chören\, Orchestern\, Ensembles oder Bands von Rock bis zu Mundart-Liedermacherinnen wurden und werden über diese Plattform wahrnehmbar\, ermutigt\, gefördert. \n
URL:https://evelynfinkmennel.at/event/eroeffnung-und-talkshow-montforter-zwischentoene-herbst-2020/
LOCATION:Feldkirch Altes Hallenbad\, Feldkirch\, Vorarlberg\, 6800\, Österreich
CATEGORIES:Vortrag
ATTACH;FMTTYPE=image/jpeg:https://evelynfinkmennel.at/wp-content/uploads/Montforter-Zwischentöne-Opening.jpg
END:VEVENT
END:VCALENDAR