BEGIN:VCALENDAR
VERSION:2.0
PRODID:-//Evelyn Fink-Mennel - ECPv4.7.4//NONSGML v1.0//EN
CALSCALE:GREGORIAN
METHOD:PUBLISH
X-WR-CALNAME:Evelyn Fink-Mennel
X-ORIGINAL-URL:https://evelynfinkmennel.at
X-WR-CALDESC:Veranstaltungen für Evelyn Fink-Mennel
BEGIN:VEVENT
DTSTART;TZID=UTC+0:20180621T110000
DTEND;TZID=UTC+0:20180621T133000
DTSTAMP:20260422T185601
CREATED:20180602T195240Z
LAST-MODIFIED:20180602T200228Z
UID:737-1529578800-1529587800@evelynfinkmennel.at
SUMMARY:Finkslinggs am Kunstwanderweg Muttersberg
DESCRIPTION:allerArt Bludenz lädt zur Eröffnung eines Kunstwanderwegs oben am MuttersBerg. Finkslinggs feiern gerne musikalisch mit! \n \n
URL:https://evelynfinkmennel.at/event/eroeffnung-kunstwanderweg-muttersberg/
LOCATION:Muttersberg\, Bludenz\, Vorarlberg\, 6700\, Österreich
END:VEVENT
END:VCALENDAR