BEGIN:VCALENDAR
VERSION:2.0
PRODID:-//Evelyn Fink-Mennel - ECPv4.7.4//NONSGML v1.0//EN
CALSCALE:GREGORIAN
METHOD:PUBLISH
X-WR-CALNAME:Evelyn Fink-Mennel
X-ORIGINAL-URL:https://evelynfinkmennel.at
X-WR-CALDESC:Veranstaltungen für Evelyn Fink-Mennel
BEGIN:VEVENT
DTSTART;TZID=UTC+0:20190929T100000
DTEND;TZID=UTC+0:20190929T170000
DTSTAMP:20260420T065911
CREATED:20190721T175941Z
LAST-MODIFIED:20190721T175941Z
UID:1155-1569751200-1569776400@evelynfinkmennel.at
SUMMARY:ein.klang Musikwanderung
DESCRIPTION:„ein.klang“: 45 Jahre Vorarlberger Volksliedwerk \nAn verschiedenen Stationen (Kloster Viktorsberg\, Bartles Stall\, Gasthaus Schöne Aussicht) spielen und singen Volksmusik- und Gesangsgruppen. \ninkl. Kinderprogramm. \n
URL:https://evelynfinkmennel.at/event/ein-klang-musikwanderung/
LOCATION:Viktorsberg
END:VEVENT
END:VCALENDAR