BEGIN:VCALENDAR
VERSION:2.0
PRODID:-//Evelyn Fink-Mennel - ECPv4.7.4//NONSGML v1.0//EN
CALSCALE:GREGORIAN
METHOD:PUBLISH
X-WR-CALNAME:Evelyn Fink-Mennel
X-ORIGINAL-URL:https://evelynfinkmennel.at
X-WR-CALDESC:Veranstaltungen für Evelyn Fink-Mennel
BEGIN:VEVENT
DTSTART;TZID=UTC+0:20180222T094500
DTEND;TZID=UTC+0:20180222T123000
DTSTAMP:20260422T220414
CREATED:20171120T103851Z
LAST-MODIFIED:20171120T105358Z
UID:450-1519292700-1519302600@evelynfinkmennel.at
SUMMARY:Eigenes und Fremdes in der Volksmusik Vorarlbergs
DESCRIPTION:Volksmusik kann als Spiegel der Sozialgeschichte einer Region betrachtet werden.\nAuch für Vorarlberg trifft das zu\, wo sie sich zu verschiedenen Zeiten\nunterschiedlich zeigt. Z.B. in der Verwendung unterschiedlicher Liedsprachen\n(Dialekte und Schriftsprache) oder verfügbarer Instrumente. Neben großen\neuropäischen oder weltpolitischen Bewegungen und ihren Folgen für die\nMusikpraxis sind es auch lokale Ereignisse (politische\, kirchliche Zugehörigkeit\,\nArbeitsmarkt)\, die der musikalischen Volkskultur des Landes ihren Stempel\naufgedrückt haben. Damit werden wir uns in Theorie und Praxis beschäftigen \nAnmeldung erbeten an Bildungshaus Batschuns\nT 05522/44290-0\nEmail: bildungshaus@bhba.at \nMöglichkeit zum anschließenden Mittagessen im Schloss auf eigene Rechnung. \n
URL:https://evelynfinkmennel.at/event/eigenes-und-fremdes-in-der-volksmusik-vorarlbergs/
LOCATION:Landesbildungszentrum Schloss Hofen\, Hofer Straße 26\, Lochau\, Vorarlberg\, 6911\, Österreich
CATEGORIES:Vortrag
ORGANIZER;CN="Bildungshaus%20Batschuns":MAILTO:bildungshaus@bhba.at
END:VEVENT
END:VCALENDAR