BEGIN:VCALENDAR
VERSION:2.0
PRODID:-//Evelyn Fink-Mennel - ECPv4.7.4//NONSGML v1.0//EN
CALSCALE:GREGORIAN
METHOD:PUBLISH
X-WR-CALNAME:Evelyn Fink-Mennel
X-ORIGINAL-URL:https://evelynfinkmennel.at
X-WR-CALDESC:Veranstaltungen für Evelyn Fink-Mennel
BEGIN:VEVENT
DTSTART;TZID=UTC+0:20180623T103000
DTEND;TZID=UTC+0:20180623T120000
DTSTAMP:20260422T185713
CREATED:20180602T193723Z
LAST-MODIFIED:20180602T193723Z
UID:733-1529749800-1529755200@evelynfinkmennel.at
SUMMARY:"Die Frau im Spiegel des Volksliedes"
DESCRIPTION:Evelyn Fink-Mennel und Studierende des Vorarlberger Landeskonservatoriums (Samuel Eder\, Sebastian Konietzki\, Kathrin Signer\, Anna Zimmermann) im Gesprächskonzert. (Im Rahmen des Symposiums: „Frauen: Musik/Geschichten“) \n \n
URL:https://evelynfinkmennel.at/event/die-frau-im-spiegel-des-volksliedes/
LOCATION:Frauenmuseum Hittisau\, Hittisau\, Österreich
CATEGORIES:Konzert,Vortrag
ATTACH;FMTTYPE=image/png:https://evelynfinkmennel.at/wp-content/uploads/symposium-frauengeschichten.png
END:VEVENT
END:VCALENDAR