BEGIN:VCALENDAR
VERSION:2.0
PRODID:-//Evelyn Fink-Mennel - ECPv4.7.4//NONSGML v1.0//EN
CALSCALE:GREGORIAN
METHOD:PUBLISH
X-WR-CALNAME:Evelyn Fink-Mennel
X-ORIGINAL-URL:https://evelynfinkmennel.at
X-WR-CALDESC:Veranstaltungen für Evelyn Fink-Mennel
BEGIN:VEVENT
DTSTART;TZID=UTC+0:20191110T190000
DTEND;TZID=UTC+0:20191110T210000
DTSTAMP:20260420T025325
CREATED:20190721T184356Z
LAST-MODIFIED:20190721T184356Z
UID:1167-1573412400-1573419600@evelynfinkmennel.at
SUMMARY:CD-Präsentation Vlbg. Tanzmusik aus der "Sonnleithner-Sammlung"
DESCRIPTION:1819 erging vom Sekretär der Gesellschaft der Musikfreunde in Wien\, Joseph von Sonnleithner\, der Aufruf an alle Kronländer der Monarchie aus\, Volksmusik der Regionen zu sammeln. Auch für Vorarlberg sind seither erste tanzmusikalische Zeugnisse greifbar. \nAus Anlass des 200 Geburtstages dieser Sammlung produzieren die Musiksammlung des Vorarlberger Landesarchiv\, das Vorarlberger Volksliedwerk\, der ORF-Vorarlberg und Evelyn Fink-Mennel (Vorarlberger Landeskonservatorium) eine CD\, die die Gesamteinspielung dieser Musikalien zum Hören vorlegt. \nDie CD-Präsentation findet im Rahmen des Festaktes 45 Jahre Vorarlberger Volksliedwerk statt. \n  \n
URL:https://evelynfinkmennel.at/event/cd-praesentation-vlbg-tanzmusik-aus-der-sonnleithner-sammlung/
LOCATION:Angelika Kauffmann Saal\, Hof 454\, Schwarzenberg\, Vorarlberg\, 6867\, Österreich
END:VEVENT
END:VCALENDAR