BEGIN:VCALENDAR
VERSION:2.0
PRODID:-//Evelyn Fink-Mennel - ECPv4.7.4//NONSGML v1.0//EN
CALSCALE:GREGORIAN
METHOD:PUBLISH
X-WR-CALNAME:Evelyn Fink-Mennel
X-ORIGINAL-URL:https://evelynfinkmennel.at
X-WR-CALDESC:Veranstaltungen für Evelyn Fink-Mennel
BEGIN:VEVENT
DTSTART;TZID=UTC+0:20200827T090000
DTEND;TZID=UTC+0:20200829T170000
DTSTAMP:20260419T210838
CREATED:20200818T141519Z
LAST-MODIFIED:20200818T152545Z
UID:1482-1598518800-1598720400@evelynfinkmennel.at
SUMMARY:Bregenzerwälder Sommer-Fiddleschool
DESCRIPTION:Aus Leidenschaft zur Streichmusik und Freude am Ensemblespiel! \nJuhuuu\, nachdem die begehrte Radix-Musikwerkstatt 2020 (www.walserherbst.at) covidbedingt entfällt\, kann nun die erste Fiddle-School im Lande in kleinerem Rahmen in Mellau stattfinden. Danke an das Kulturbüro Bregenzerwald und Regio-V in Zusammenarbeit mit der MS Bregenzerwald!! \nAm 29.8.2020 gibt’s um 17 Uhr ein kleines Abholkonzert für alle Interessierte am Mellauer Dorfplatz. \nAlle Informationen: www.kulturbuero.online/sommerfiddler \n  \n
URL:https://evelynfinkmennel.at/event/bregenzerwaelder-sommer-fiddleschool/
LOCATION:Gemeindesaal Mellau\, Platz 292\, Mellau\, Vorarlberg\, 6881\, Österreich
CATEGORIES:Kurs
ATTACH;FMTTYPE=image/jpeg:https://evelynfinkmennel.at/wp-content/uploads/VN-bericht-mit-datum_Schwendinger.jpg
END:VEVENT
END:VCALENDAR