BEGIN:VCALENDAR
VERSION:2.0
PRODID:-//Evelyn Fink-Mennel - ECPv4.7.4//NONSGML v1.0//EN
CALSCALE:GREGORIAN
METHOD:PUBLISH
X-WR-CALNAME:Evelyn Fink-Mennel
X-ORIGINAL-URL:https://evelynfinkmennel.at
X-WR-CALDESC:Veranstaltungen für Evelyn Fink-Mennel
BEGIN:VEVENT
DTSTART;TZID=UTC+0:20200823T190000
DTEND;TZID=UTC+0:20200823T200000
DTSTAMP:20260419T191530
CREATED:20200818T143134Z
LAST-MODIFIED:20200818T143134Z
UID:1488-1598209200-1598212800@evelynfinkmennel.at
SUMMARY:Bregenzer Luftspiele
DESCRIPTION:Euterballon wird zum Klangkörper – ein Luftkonzert über dem Lustschiff! \n  \nMit einem besonderen Konzerterlebnis zwischen Zitzen\, Himmel und Wasser überrascht die Künstlerin Barbara Anna Husar über dem Bodensee. Ihr Euter-Luftschiff wird zur Himmelsbotin für die Jungfernfahrt der MS Österreich als erstes historisches Kunstschiff Europas. \nEvelyn Fink-Mennel (mit Melktrichter im vergoldeten Ballonkorb über dem See)\, Bläser aus dem Rigoletto Reigen der Bregenzer Festspiele und andere treten in musikalische Beziehung! \n
URL:https://evelynfinkmennel.at/event/bregenzer-luftspiele/
LOCATION:Lustschiff Bregenz\, Symphoniker Platz\, Bregenz\, Vorarlberg\, 6900\, Österreich
CATEGORIES:Konzert
ATTACH;FMTTYPE=image/jpeg:https://evelynfinkmennel.at/wp-content/uploads/Ballon-husar.jpg
END:VEVENT
END:VCALENDAR