BEGIN:VCALENDAR
VERSION:2.0
PRODID:-//Evelyn Fink-Mennel - ECPv4.7.4//NONSGML v1.0//EN
CALSCALE:GREGORIAN
METHOD:PUBLISH
X-WR-CALNAME:Evelyn Fink-Mennel
X-ORIGINAL-URL:https://evelynfinkmennel.at
X-WR-CALDESC:Veranstaltungen für Evelyn Fink-Mennel
BEGIN:VEVENT
DTSTART;TZID=UTC+0:20180811T150000
DTEND;TZID=UTC+0:20180811T163000
DTSTAMP:20260422T173916
CREATED:20180602T134230Z
LAST-MODIFIED:20180602T134231Z
UID:638-1533999600-1534005000@evelynfinkmennel.at
SUMMARY:bezau beatz finkslinggs
DESCRIPTION: \n
URL:https://evelynfinkmennel.at/event/bezau-beatz-finkslinggs/
LOCATION:Alte Säge Bezau\, Bezau\, Österreich
END:VEVENT
END:VCALENDAR