BEGIN:VCALENDAR
VERSION:2.0
PRODID:-//Evelyn Fink-Mennel - ECPv4.7.4//NONSGML v1.0//EN
CALSCALE:GREGORIAN
METHOD:PUBLISH
X-WR-CALNAME:Evelyn Fink-Mennel
X-ORIGINAL-URL:https://evelynfinkmennel.at
X-WR-CALDESC:Veranstaltungen für Evelyn Fink-Mennel
BEGIN:VEVENT
DTSTART;TZID=UTC+0:20190707T080000
DTEND;TZID=UTC+0:20190707T170000
DTSTAMP:20260422T091632
CREATED:20181230T181819Z
LAST-MODIFIED:20181230T181819Z
UID:911-1562486400-1562518800@evelynfinkmennel.at
SUMMARY:Benefizkonzert mit Messis Cellogruppe
DESCRIPTION:
URL:https://evelynfinkmennel.at/event/benefizkonzert-mit-messis-cellogruppe/
LOCATION:Kapuzinerkloster Bregenz\, Bregenz\, Vorarlberg\, 6900\, Österreich
END:VEVENT
END:VCALENDAR