BEGIN:VCALENDAR
VERSION:2.0
PRODID:-//Evelyn Fink-Mennel - ECPv4.7.4//NONSGML v1.0//EN
CALSCALE:GREGORIAN
METHOD:PUBLISH
X-WR-CALNAME:Evelyn Fink-Mennel
X-ORIGINAL-URL:https://evelynfinkmennel.at
X-WR-CALDESC:Veranstaltungen für Evelyn Fink-Mennel
BEGIN:VEVENT
DTSTART;TZID=UTC+0:20180708T103000
DTEND;TZID=UTC+0:20180708T123000
DTSTAMP:20260422T185440
CREATED:20171121T185219Z
LAST-MODIFIED:20180602T124100Z
UID:548-1531045800-1531053000@evelynfinkmennel.at
SUMMARY:Benefizkonzert im Kloster
DESCRIPTION:Unter der Patronanz des em. Symphonikers Prof. Martin Ortner und organisiert vom „Verein der Freunde der Schwestern der Hl.\nKlara“ des Bregenzer Kapuzinerklosters spielt das junge Bregenzerwälder Streicherkollektiv „Messis Cellogruppe“ mit Evelyn Fink-Mennel ein Benefizkonzert. \n
URL:https://evelynfinkmennel.at/event/benefizkonzert-im-kloster/
CATEGORIES:Konzert
END:VEVENT
END:VCALENDAR