BEGIN:VCALENDAR
VERSION:2.0
PRODID:-//Evelyn Fink-Mennel - ECPv4.7.4//NONSGML v1.0//EN
CALSCALE:GREGORIAN
METHOD:PUBLISH
X-WR-CALNAME:Evelyn Fink-Mennel
X-ORIGINAL-URL:https://evelynfinkmennel.at
X-WR-CALDESC:Veranstaltungen für Evelyn Fink-Mennel
BEGIN:VEVENT
DTSTART;TZID=UTC+0:20180909T170000
DTEND;TZID=UTC+0:20180909T190000
DTSTAMP:20260422T173916
CREATED:20180602T152721Z
LAST-MODIFIED:20180602T153226Z
UID:675-1536512400-1536519600@evelynfinkmennel.at
SUMMARY:Auf den Spuren des Dichters Franz Michael Felder
DESCRIPTION:Evelyn Fink-Mennel\, Elias Menzi\, Matthias Härtel und Studierende des Schwerpunktes Volksmusik auf musikalischer Spurensuche\, Text: Gotthard Bilgeri \n \n
URL:https://evelynfinkmennel.at/event/auf-den-spuren-des-dichters-franz-michael-felder/
LOCATION:Kirche St. Corneli/Feldkirch\, Feldkirch\, Vorarlberg\, 6800\, Österreich
CATEGORIES:Konzert
ATTACH;FMTTYPE=image/png:https://evelynfinkmennel.at/wp-content/uploads/st-corneli.png
END:VEVENT
END:VCALENDAR