BEGIN:VCALENDAR
VERSION:2.0
PRODID:-//Evelyn Fink-Mennel - ECPv4.7.4//NONSGML v1.0//EN
CALSCALE:GREGORIAN
METHOD:PUBLISH
X-WR-CALNAME:Evelyn Fink-Mennel
X-ORIGINAL-URL:https://evelynfinkmennel.at
X-WR-CALDESC:Veranstaltungen für Evelyn Fink-Mennel
BEGIN:VEVENT
DTSTART;VALUE=DATE:20190227
DTEND;VALUE=DATE:20190228
DTSTAMP:20260422T135118
CREATED:20190215T161142Z
LAST-MODIFIED:20190215T161142Z
UID:1003-1551225600-1551311999@evelynfinkmennel.at
SUMMARY:Audio-Branding-Workshop an der ZHdK
DESCRIPTION:Workshop mit Studierenden der ZHdK (Zürcher Hochschule der Künste) und des VLK (Vorarlberger Landeskonservatoriums) im Rahmen des \nIBH-Forschungsprojektes „Alltagskunst als Innovations- und Integrationsfaktor in Unternehmen der Bodenseeregion – eine Illustration am Beispiel der Musik“.\nEin von der Internationalen Bodenseehochschule (IBH) gefördertes Forschungsprojekt der FHS St. Gallen\, Hochschule für Angewandte Wissenschaften\, des Vorarlberger Landeskonservatoriums sowie der Fachhochschule Nordwestschweiz \n  \n
URL:https://evelynfinkmennel.at/event/audio-branding-workshop-an-der-zhdk/
LOCATION:Zürcher Hochschule der Künste
END:VEVENT
END:VCALENDAR