BEGIN:VCALENDAR
VERSION:2.0
PRODID:-//Evelyn Fink-Mennel - ECPv4.7.4//NONSGML v1.0//EN
CALSCALE:GREGORIAN
METHOD:PUBLISH
X-WR-CALNAME:Evelyn Fink-Mennel
X-ORIGINAL-URL:https://evelynfinkmennel.at
X-WR-CALDESC:Veranstaltungen für Evelyn Fink-Mennel
BEGIN:VEVENT
DTSTART;TZID=UTC+0:20171215T140000
DTEND;TZID=UTC+0:20171215T170000
DTSTAMP:20260422T215845
CREATED:20171212T152654Z
LAST-MODIFIED:20171212T154106Z
UID:555-1513346400-1513357200@evelynfinkmennel.at
SUMMARY:Arabisch & Deutsch sprechende Frauen im Dialog (ifs)
DESCRIPTION: \n
URL:https://evelynfinkmennel.at/event/arabisch-deutsch-sprechende-frauen-im-dialog-ifs/
LOCATION:Pfarramt St. Martin\, Dornbirn Marktplatz 1\, Marktplatz 1\, Dornbirn\, Vorarlberg\, 6850\, Österreich
CATEGORIES:Vortrag
END:VEVENT
END:VCALENDAR