BEGIN:VCALENDAR
VERSION:2.0
PRODID:-//Evelyn Fink-Mennel - ECPv4.7.4//NONSGML v1.0//EN
CALSCALE:GREGORIAN
METHOD:PUBLISH
X-WR-CALNAME:Evelyn Fink-Mennel
X-ORIGINAL-URL:https://evelynfinkmennel.at
X-WR-CALDESC:Veranstaltungen für Evelyn Fink-Mennel
BEGIN:VEVENT
DTSTART;TZID=UTC+0:20180623T170000
DTEND;TZID=UTC+0:20180623T210000
DTSTAMP:20260422T185821
CREATED:20180602T175425Z
LAST-MODIFIED:20180602T175426Z
UID:721-1529773200-1529787600@evelynfinkmennel.at
SUMMARY:Alpen Balkan Credos Duo Mirkovic/Fink
DESCRIPTION:Konzertmitwirkung mit „Alpen-Balkan-Credos“ des „Duo Mirkovic/Fink“ im Rahmen der „Langen Nacht der Komponistinnen“ (Musik in der Pforte) im Frauenmuseum Hittisau mit Traditionals und Eigenkompositionen. \n  Die Natasa Mirkovic und Evelyn Fink \n \n \n
URL:https://evelynfinkmennel.at/event/alpen-balkan-credos-duo-mirkovic-fink/
LOCATION:Frauenmuseum Hittisau\, Hittisau\, Österreich
CATEGORIES:Konzert
ATTACH;FMTTYPE=image/png:https://evelynfinkmennel.at/wp-content/uploads/symposium-konzerte.png
END:VEVENT
END:VCALENDAR