BEGIN:VCALENDAR
VERSION:2.0
PRODID:-//Evelyn Fink-Mennel - ECPv4.7.4//NONSGML v1.0//EN
CALSCALE:GREGORIAN
METHOD:PUBLISH
X-WR-CALNAME:Evelyn Fink-Mennel
X-ORIGINAL-URL:https://evelynfinkmennel.at
X-WR-CALDESC:Veranstaltungen für Evelyn Fink-Mennel
BEGIN:VEVENT
DTSTART;TZID=UTC+0:20201107T200000
DTEND;TZID=UTC+0:20201107T220000
DTSTAMP:20260419T153739
CREATED:20201020T171032Z
LAST-MODIFIED:20201020T171032Z
UID:1534-1604779200-1604786400@evelynfinkmennel.at
SUMMARY:abgesagt! Zündschnur & Bänd beim Mundart-Festival in Hohenems
DESCRIPTION:Herbsttournee Gastspiel der Bregenzerwälder Liedermacher zum Abschluss des Mundart-Festivals in Hohenems! \nWeitere Infos  www.stemmschnur.at \n
URL:https://evelynfinkmennel.at/event/abgesagt-zuendschnur-baend-beim-mundart-festival-in-hohenems/
CATEGORIES:Konzert
END:VEVENT
END:VCALENDAR