BEGIN:VCALENDAR
VERSION:2.0
PRODID:-//Evelyn Fink-Mennel - ECPv4.7.4//NONSGML v1.0//EN
CALSCALE:GREGORIAN
METHOD:PUBLISH
X-WR-CALNAME:Evelyn Fink-Mennel
X-ORIGINAL-URL:https://evelynfinkmennel.at
X-WR-CALDESC:Veranstaltungen für Evelyn Fink-Mennel
BEGIN:VEVENT
DTSTART;TZID=UTC+0:20201025T110000
DTEND;TZID=UTC+0:20201025T123000
DTSTAMP:20260419T172659
CREATED:20201020T192344Z
LAST-MODIFIED:20201020T192453Z
UID:1577-1603623600-1603629000@evelynfinkmennel.at
SUMMARY:abgesagt! Kons-Fiddler fiddeln fürs Ehrenamt
DESCRIPTION:Ehrenamt in die Mitte. Eine Festmatinee für Menschen im Lande\, die sich im Ehrenamt zivilgesellschaftlich engagieren! \n
URL:https://evelynfinkmennel.at/event/abgesagt-kons-fiddler-fiddeln-fuers-ehrenamt/
LOCATION:Feldkirch Montforthaus\, Feldkirch\, Vorarlberg\, 6800\, Österreich
CATEGORIES:Konzert,Vortrag
END:VEVENT
END:VCALENDAR