BEGIN:VCALENDAR
VERSION:2.0
PRODID:-//Evelyn Fink-Mennel - ECPv4.7.4//NONSGML v1.0//EN
CALSCALE:GREGORIAN
METHOD:PUBLISH
X-WR-CALNAME:Evelyn Fink-Mennel
X-ORIGINAL-URL:https://evelynfinkmennel.at
X-WR-CALDESC:Veranstaltungen für Evelyn Fink-Mennel
BEGIN:VEVENT
DTSTART;VALUE=DATE:20201024
DTEND;VALUE=DATE:20201025
DTSTAMP:20260419T192255
CREATED:20201020T162243Z
LAST-MODIFIED:20201020T162243Z
UID:1522-1603497600-1603583999@evelynfinkmennel.at
SUMMARY:abgesagt! Kons-Fiddler beim Alpenländischen Volksmusikwettbewerb
DESCRIPTION:Der Alpenländische Volksmusikwettbewerb 2020 lädt zum Straßenmusikfest mit junger Volksmusik in der Innenstadt von Innsbruck! Die Kons-Fiddler vom Vorarlberger Landeskonservatorium sind mit dabei! \n
URL:https://evelynfinkmennel.at/event/abgesagt-kons-fiddler-beim-alpenlaendischen-volksmusikwettbewerb/
CATEGORIES:Session
END:VEVENT
END:VCALENDAR