BEGIN:VCALENDAR
VERSION:2.0
PRODID:-//Evelyn Fink-Mennel - ECPv4.7.4//NONSGML v1.0//EN
CALSCALE:GREGORIAN
METHOD:PUBLISH
X-WR-CALNAME:Evelyn Fink-Mennel
X-ORIGINAL-URL:https://evelynfinkmennel.at
X-WR-CALDESC:Veranstaltungen für Evelyn Fink-Mennel
BEGIN:VEVENT
DTSTART;TZID=UTC+0:20200110T193000
DTEND;TZID=UTC+0:20200110T210000
DTSTAMP:20260420T025358
CREATED:20191206T102254Z
LAST-MODIFIED:20191206T102254Z
UID:1243-1578684600-1578690000@evelynfinkmennel.at
SUMMARY:750 Jahre Schwarzenberg - Auftaktveranstaltung
DESCRIPTION:Evelyn steuert zu dieser Auftaktvervanstaltung und das Jubliäumsjahr in Schwarzenberg den „Schwarzenberg-Song“ bei!! \n  \n
URL:https://evelynfinkmennel.at/event/750-jahre-schwarzenberg-auftaktveranstaltung/
LOCATION:Angelika Kauffmann Saal\, Hof 454\, Schwarzenberg\, Vorarlberg\, 6867\, Österreich
ATTACH;FMTTYPE=image/jpeg:https://evelynfinkmennel.at/wp-content/uploads/2017/09/EFM-profil-nacht-mit-giege-und-singend-ernst-bimminger-2017-07-212021-41-52.jpg
END:VEVENT
END:VCALENDAR