BEGIN:VCALENDAR
VERSION:2.0
PRODID:-//Evelyn Fink-Mennel - ECPv4.7.4//NONSGML v1.0//EN
CALSCALE:GREGORIAN
METHOD:PUBLISH
X-WR-CALNAME:Evelyn Fink-Mennel
X-ORIGINAL-URL:https://evelynfinkmennel.at
X-WR-CALDESC:Veranstaltungen für Evelyn Fink-Mennel
BEGIN:VEVENT
DTSTART;TZID=UTC+0:20200830T190000
DTEND;TZID=UTC+0:20200903T190000
DTSTAMP:20260419T191657
CREATED:20191117T210159Z
LAST-MODIFIED:20200611T102713Z
UID:1183-1598814000-1599159600@evelynfinkmennel.at
SUMMARY:abgesagt! 5. Radix-Musikwerkstatt
DESCRIPTION:„…gehört im Westen zum Besten\, was es an Kursen für Volksmusik gibt…“ \nKurse für Geige\, Kontrabass\, Gitarre\, Akkordeon\, Jodeln/Raffele und Tanz. \nMit Referenten aus Österreich\, Deutschland\, Finnland\, Italien. \n  \nAlle Infos und Anmeldung zur Radix 2020: \nwww.walserherbst.at/news.html \n
URL:https://evelynfinkmennel.at/event/5-radix-musikwerkstatt/
LOCATION:Propstei St. Gerold\, Propstei St. Gerold\, St. Gerold\, Vorarlberg\, 6722\, Österreich
CATEGORIES:Kurs
ATTACH;FMTTYPE=image/jpeg:https://evelynfinkmennel.at/wp-content/uploads/guv2.jpg
ORGANIZER;CN="Walserherbst":MAILTO:office@walserherbst.at
END:VEVENT
END:VCALENDAR