BEGIN:VCALENDAR
VERSION:2.0
PRODID:-//Evelyn Fink-Mennel - ECPv4.7.4//NONSGML v1.0//EN
CALSCALE:GREGORIAN
METHOD:PUBLISH
X-WR-CALNAME:Evelyn Fink-Mennel
X-ORIGINAL-URL:https://evelynfinkmennel.at
X-WR-CALDESC:Veranstaltungen für Evelyn Fink-Mennel
BEGIN:VEVENT
DTSTART;VALUE=DATE:20190626
DTEND;VALUE=DATE:20190705
DTSTAMP:20260422T104553
CREATED:20190503T112441Z
LAST-MODIFIED:20190503T112441Z
UID:1045-1561507200-1562284799@evelynfinkmennel.at
SUMMARY:Ausstellung: Das Bregenzer Folkfestival 1976-1979
DESCRIPTION:Im Rahmen des 1. Arbogaster Folkfestival zeigen Evelyn Fink-Mennel und Studierende des Vorarlberger Landeskonservatorium eine multimediale Ausstellung zum historischen Bregenzer Folkfestival der Jahre 1976-1979\, das das erste dieser Art in Österreich war. \n  \n
URL:https://evelynfinkmennel.at/event/2-7/
LOCATION:Bildungshaus St. Arbogast\, Montfortstrasse 88\, Götzis\, Vorarlberg\, 6840\, Österreich
END:VEVENT
END:VCALENDAR