BEGIN:VCALENDAR
VERSION:2.0
PRODID:-//Evelyn Fink-Mennel - ECPv4.7.4//NONSGML v1.0//EN
CALSCALE:GREGORIAN
METHOD:PUBLISH
X-WR-CALNAME:Evelyn Fink-Mennel
X-ORIGINAL-URL:https://evelynfinkmennel.at
X-WR-CALDESC:Veranstaltungen für Evelyn Fink-Mennel
BEGIN:VEVENT
DTSTART;TZID=UTC+0:20190503T000000
DTEND;TZID=UTC+0:20190503T000000
DTSTAMP:20260422T121736
CREATED:20190503T110541Z
LAST-MODIFIED:20190503T110541Z
UID:1031-1556841600-1556841600@evelynfinkmennel.at
SUMMARY:SPOT on Albin Paulus feat. Evelyn Fink\, Robin Gillard und Aline Mohl
DESCRIPTION:Konzert im Rahmen des Festivals Rosenstolz – Landpartie 2019\nFreue mich\, bei Albin Paulus‘ Carte Blanche als Gastmusikerin gelanden zu sein. yeah!! \n  \n
URL:https://evelynfinkmennel.at/event/2-4/
CATEGORIES:Konzert
ATTACH;FMTTYPE=image/png:https://evelynfinkmennel.at/wp-content/uploads/wien-im-rosenstolz-2019.png
END:VEVENT
END:VCALENDAR