BEGIN:VCALENDAR
VERSION:2.0
PRODID:-//Evelyn Fink-Mennel - ECPv4.7.4//NONSGML v1.0//EN
CALSCALE:GREGORIAN
METHOD:PUBLISH
X-WR-CALNAME:Evelyn Fink-Mennel
X-ORIGINAL-URL:https://evelynfinkmennel.at
X-WR-CALDESC:Veranstaltungen für Evelyn Fink-Mennel
BEGIN:VEVENT
DTSTART;VALUE=DATE:20190530
DTEND;VALUE=DATE:20190531
DTSTAMP:20260422T104506
CREATED:20190503T104046Z
LAST-MODIFIED:20190503T104624Z
UID:1022-1559174400-1559260799@evelynfinkmennel.at
SUMMARY:Workshop: Alte und neue Johlar aus dem Bregenzerwald
DESCRIPTION: \nWorkshop mit Evelyn Fink-Mennel von 10-17 Uhr im Rahmen des LAUTyodeln Vol. 2 Festivals in München. Info: www.lautyodeln.de \nAnmeldung: jodeln@muenchen.de \n  \n
URL:https://evelynfinkmennel.at/event/2-3/
LOCATION:Monacensia im HIldebrandhaus & Stachus Passagen\, Münchden\, Deutschland
CATEGORIES:Kurs
END:VEVENT
END:VCALENDAR