BEGIN:VCALENDAR
VERSION:2.0
PRODID:-//Evelyn Fink-Mennel - ECPv4.7.4//NONSGML v1.0//EN
CALSCALE:GREGORIAN
METHOD:PUBLISH
X-WR-CALNAME:Evelyn Fink-Mennel
X-ORIGINAL-URL:https://evelynfinkmennel.at
X-WR-CALDESC:Veranstaltungen für Evelyn Fink-Mennel
BEGIN:VEVENT
DTSTART;TZID=UTC+0:20190522T093000
DTEND;TZID=UTC+0:20190522T120000
DTSTAMP:20260422T104108
CREATED:20190503T102325Z
LAST-MODIFIED:20190503T102325Z
UID:1013-1558517400-1558526400@evelynfinkmennel.at
SUMMARY:Arbogaster Fragen
DESCRIPTION:Liedermacher Ulli Troy (Zündschnur) und Evelyn Fink-Mennel (& Band) im Gespräch über \nVolkslieder und die Bedeutung des Singens für den Klang einer Gesellschaft. \nModeration: Dr. Walter Fink \npdf zur Veranstaltung arbogaster fragen \n
URL:https://evelynfinkmennel.at/event/2-2/
LOCATION:Bildungshaus St. Arbogast\, Montfortstrasse 88\, Götzis\, Vorarlberg\, 6840\, Österreich
CATEGORIES:Vortrag
ATTACH;FMTTYPE=image/jpeg:https://evelynfinkmennel.at/wp-content/uploads/stemmschnur.jpg
END:VEVENT
END:VCALENDAR